BEGIN:VCALENDAR
VERSION:2.0
PRODID:-//Love Altered - ECPv6.15.20//NONSGML v1.0//EN
CALSCALE:GREGORIAN
METHOD:PUBLISH
X-WR-CALNAME:Love Altered
X-ORIGINAL-URL:https://lovealtered.com
X-WR-CALDESC:Events for Love Altered
REFRESH-INTERVAL;VALUE=DURATION:PT1H
X-Robots-Tag:noindex
X-PUBLISHED-TTL:PT1H
BEGIN:VTIMEZONE
TZID:UTC
BEGIN:STANDARD
TZOFFSETFROM:+0000
TZOFFSETTO:+0000
TZNAME:UTC
DTSTART:20180101T000000
END:STANDARD
END:VTIMEZONE
BEGIN:VEVENT
DTSTART;TZID=UTC:20191112T183000
DTEND;TZID=UTC:20191112T200000
DTSTAMP:20260425T153447
CREATED:20191111T022023Z
LAST-MODIFIED:20191121T163711Z
UID:917-1573583400-1573588800@lovealtered.com
SUMMARY:Fluid Art Class
DESCRIPTION:Paint Pouring is all the Rage! \nCome and find out what it’s all about. This new style of art is making a wave through the art scene and is suprisingly easy to get the hang of! Don’t worry if you are an art newbie\, I will coach you through all the steps needed to create a beautiful work of paint pour art.  \nEach class is only 4 people\, bring a friend\, family\,  \nCome and join me for an evening at Love Altered Art Studio!
URL:https://lovealtered.com/event/fluid-art-class/
LOCATION:Love Altered Studio\, 148 Glider Loop\, Eagleville\, Tennessee\, 37060
CATEGORIES:Paint Pours
ATTACH;FMTTYPE=image/jpeg:https://lovealtered.com/wp-content/uploads/2019/11/fullsizeoutput_27f0.jpeg
END:VEVENT
END:VCALENDAR